BEGIN:VCALENDAR
VERSION:2.0
PRODID:-//Holy Cross Greek Orthodox Church - ECPv6.15.18//NONSGML v1.0//EN
CALSCALE:GREGORIAN
METHOD:PUBLISH
X-WR-CALNAME:Holy Cross Greek Orthodox Church
X-ORIGINAL-URL:https://holycrosspgh.org
X-WR-CALDESC:Events for Holy Cross Greek Orthodox Church
REFRESH-INTERVAL;VALUE=DURATION:PT1H
X-Robots-Tag:noindex
X-PUBLISHED-TTL:PT1H
BEGIN:VTIMEZONE
TZID:America/New_York
BEGIN:DAYLIGHT
TZOFFSETFROM:-0500
TZOFFSETTO:-0400
TZNAME:EDT
DTSTART:20250309T070000
END:DAYLIGHT
BEGIN:STANDARD
TZOFFSETFROM:-0400
TZOFFSETTO:-0500
TZNAME:EST
DTSTART:20251102T060000
END:STANDARD
BEGIN:DAYLIGHT
TZOFFSETFROM:-0500
TZOFFSETTO:-0400
TZNAME:EDT
DTSTART:20260308T070000
END:DAYLIGHT
BEGIN:STANDARD
TZOFFSETFROM:-0400
TZOFFSETTO:-0500
TZNAME:EST
DTSTART:20261101T060000
END:STANDARD
BEGIN:DAYLIGHT
TZOFFSETFROM:-0500
TZOFFSETTO:-0400
TZNAME:EDT
DTSTART:20270314T070000
END:DAYLIGHT
BEGIN:STANDARD
TZOFFSETFROM:-0400
TZOFFSETTO:-0500
TZNAME:EST
DTSTART:20271107T060000
END:STANDARD
END:VTIMEZONE
BEGIN:VEVENT
DTSTART;VALUE=DATE:20260405
DTEND;VALUE=DATE:20260412
DTSTAMP:20260424T045301
CREATED:20260325T151253Z
LAST-MODIFIED:20260403T212155Z
UID:10002429-1775347200-1775951999@holycrosspgh.org
SUMMARY:Holy Week
DESCRIPTION:
URL:https://holycrosspgh.org/event/holy-week
END:VEVENT
BEGIN:VEVENT
DTSTART;TZID=America/New_York:20260407T090000
DTEND;TZID=America/New_York:20260407T103000
DTSTAMP:20260424T045301
CREATED:20260325T151254Z
LAST-MODIFIED:20260404T213645Z
UID:10002431-1775552400-1775557800@holycrosspgh.org
SUMMARY:Presanctified Liturgy
DESCRIPTION:
URL:https://holycrosspgh.org/event/presanctified-liturgy-7
END:VEVENT
BEGIN:VEVENT
DTSTART;TZID=America/New_York:20260407T183000
DTEND;TZID=America/New_York:20260407T200000
DTSTAMP:20260424T045301
CREATED:20260325T151250Z
LAST-MODIFIED:20260403T212209Z
UID:10002426-1775586600-1775592000@holycrosspgh.org
SUMMARY:Bridegroom Service
DESCRIPTION:
URL:https://holycrosspgh.org/event/bridegroom-service-2
END:VEVENT
END:VCALENDAR