BEGIN:VCALENDAR
VERSION:2.0
PRODID:-//Holy Cross Greek Orthodox Church - ECPv6.15.18//NONSGML v1.0//EN
CALSCALE:GREGORIAN
METHOD:PUBLISH
X-WR-CALNAME:Holy Cross Greek Orthodox Church
X-ORIGINAL-URL:https://holycrosspgh.org
X-WR-CALDESC:Events for Holy Cross Greek Orthodox Church
REFRESH-INTERVAL;VALUE=DURATION:PT1H
X-Robots-Tag:noindex
X-PUBLISHED-TTL:PT1H
BEGIN:VTIMEZONE
TZID:America/New_York
BEGIN:DAYLIGHT
TZOFFSETFROM:-0500
TZOFFSETTO:-0400
TZNAME:EDT
DTSTART:20250309T070000
END:DAYLIGHT
BEGIN:STANDARD
TZOFFSETFROM:-0400
TZOFFSETTO:-0500
TZNAME:EST
DTSTART:20251102T060000
END:STANDARD
BEGIN:DAYLIGHT
TZOFFSETFROM:-0500
TZOFFSETTO:-0400
TZNAME:EDT
DTSTART:20260308T070000
END:DAYLIGHT
BEGIN:STANDARD
TZOFFSETFROM:-0400
TZOFFSETTO:-0500
TZNAME:EST
DTSTART:20261101T060000
END:STANDARD
BEGIN:DAYLIGHT
TZOFFSETFROM:-0500
TZOFFSETTO:-0400
TZNAME:EDT
DTSTART:20270314T070000
END:DAYLIGHT
BEGIN:STANDARD
TZOFFSETFROM:-0400
TZOFFSETTO:-0500
TZNAME:EST
DTSTART:20271107T060000
END:STANDARD
END:VTIMEZONE
BEGIN:VEVENT
DTSTART;VALUE=DATE:20260405
DTEND;VALUE=DATE:20260412
DTSTAMP:20260420T044655
CREATED:20260325T151253Z
LAST-MODIFIED:20260403T212155Z
UID:10002429-1775347200-1775951999@holycrosspgh.org
SUMMARY:Holy Week
DESCRIPTION:
URL:https://holycrosspgh.org/event/holy-week
END:VEVENT
BEGIN:VEVENT
DTSTART;TZID=America/New_York:20260411T090000
DTEND;TZID=America/New_York:20260411T110000
DTSTAMP:20260420T044655
CREATED:20260325T151256Z
LAST-MODIFIED:20260403T212154Z
UID:10002439-1775898000-1775905200@holycrosspgh.org
SUMMARY:Vesperal Liturgy
DESCRIPTION:
URL:https://holycrosspgh.org/event/vesperal-liturgy-2
END:VEVENT
BEGIN:VEVENT
DTSTART;TZID=America/New_York:20260411T220000
DTEND;TZID=America/New_York:20260411T223000
DTSTAMP:20260420T044655
CREATED:20260325T151256Z
LAST-MODIFIED:20260403T212154Z
UID:10002440-1775944800-1775946600@holycrosspgh.org
SUMMARY:Nocturnes
DESCRIPTION:
URL:https://holycrosspgh.org/event/nocturnes
END:VEVENT
BEGIN:VEVENT
DTSTART;TZID=America/New_York:20260411T223000
DTEND;TZID=America/New_York:20260411T230000
DTSTAMP:20260420T044655
CREATED:20260325T151257Z
LAST-MODIFIED:20260404T213646Z
UID:10002442-1775946600-1775948400@holycrosspgh.org
SUMMARY:Receive the Light
DESCRIPTION:
URL:https://holycrosspgh.org/event/receive-the-light
END:VEVENT
BEGIN:VEVENT
DTSTART;TZID=America/New_York:20260411T230000
DTEND;TZID=America/New_York:20260412T003000
DTSTAMP:20260420T044655
CREATED:20260325T151256Z
LAST-MODIFIED:20260403T212154Z
UID:10002441-1775948400-1775953800@holycrosspgh.org
SUMMARY:Orthros/Liturgy of the Resurrection
DESCRIPTION:
URL:https://holycrosspgh.org/event/orthros-liturgy-of-the-resurrection
END:VEVENT
END:VCALENDAR