BEGIN:VCALENDAR
VERSION:2.0
PRODID:-//Holy Cross Greek Orthodox Church - ECPv6.15.18//NONSGML v1.0//EN
CALSCALE:GREGORIAN
METHOD:PUBLISH
X-ORIGINAL-URL:https://holycrosspgh.org
X-WR-CALDESC:Events for Holy Cross Greek Orthodox Church
REFRESH-INTERVAL;VALUE=DURATION:PT1H
X-Robots-Tag:noindex
X-PUBLISHED-TTL:PT1H
BEGIN:VTIMEZONE
TZID:America/New_York
BEGIN:DAYLIGHT
TZOFFSETFROM:-0500
TZOFFSETTO:-0400
TZNAME:EDT
DTSTART:20250309T070000
END:DAYLIGHT
BEGIN:STANDARD
TZOFFSETFROM:-0400
TZOFFSETTO:-0500
TZNAME:EST
DTSTART:20251102T060000
END:STANDARD
BEGIN:DAYLIGHT
TZOFFSETFROM:-0500
TZOFFSETTO:-0400
TZNAME:EDT
DTSTART:20260308T070000
END:DAYLIGHT
BEGIN:STANDARD
TZOFFSETFROM:-0400
TZOFFSETTO:-0500
TZNAME:EST
DTSTART:20261101T060000
END:STANDARD
BEGIN:DAYLIGHT
TZOFFSETFROM:-0500
TZOFFSETTO:-0400
TZNAME:EDT
DTSTART:20270314T070000
END:DAYLIGHT
BEGIN:STANDARD
TZOFFSETFROM:-0400
TZOFFSETTO:-0500
TZNAME:EST
DTSTART:20271107T060000
END:STANDARD
END:VTIMEZONE
BEGIN:VEVENT
DTSTART;TZID=America/New_York:20260429T163000
DTEND;TZID=America/New_York:20260429T180000
DTSTAMP:20260424T045435
CREATED:20260325T151308Z
LAST-MODIFIED:20260403T212158Z
UID:10002468-1777480200-1777485600@holycrosspgh.org
SUMMARY:Greek School
DESCRIPTION:
URL:https://holycrosspgh.org/event/greek-school-5
END:VEVENT
BEGIN:VEVENT
DTSTART;TZID=America/New_York:20260429T190000
DTEND;TZID=America/New_York:20260429T200000
DTSTAMP:20260424T045435
CREATED:20260401T153201Z
LAST-MODIFIED:20260404T213650Z
UID:10002728-1777489200-1777492800@holycrosspgh.org
SUMMARY:Bible Study
DESCRIPTION:
URL:https://holycrosspgh.org/event/bible-study-2
END:VEVENT
END:VCALENDAR